BEGIN:VCALENDAR
VERSION:2.0
PRODID:-//Norfolk Events - ECPv6.15.20//NONSGML v1.0//EN
CALSCALE:GREGORIAN
METHOD:PUBLISH
X-ORIGINAL-URL:https://norfolkevents.uk
X-WR-CALDESC:Events for Norfolk Events
REFRESH-INTERVAL;VALUE=DURATION:PT1H
X-Robots-Tag:noindex
X-PUBLISHED-TTL:PT1H
BEGIN:VTIMEZONE
TZID:Europe/London
BEGIN:DAYLIGHT
TZOFFSETFROM:+0000
TZOFFSETTO:+0100
TZNAME:BST
DTSTART:20240331T010000
END:DAYLIGHT
BEGIN:STANDARD
TZOFFSETFROM:+0100
TZOFFSETTO:+0000
TZNAME:GMT
DTSTART:20241027T010000
END:STANDARD
BEGIN:DAYLIGHT
TZOFFSETFROM:+0000
TZOFFSETTO:+0100
TZNAME:BST
DTSTART:20250330T010000
END:DAYLIGHT
BEGIN:STANDARD
TZOFFSETFROM:+0100
TZOFFSETTO:+0000
TZNAME:GMT
DTSTART:20251026T010000
END:STANDARD
BEGIN:DAYLIGHT
TZOFFSETFROM:+0000
TZOFFSETTO:+0100
TZNAME:BST
DTSTART:20260329T010000
END:DAYLIGHT
BEGIN:STANDARD
TZOFFSETFROM:+0100
TZOFFSETTO:+0000
TZNAME:GMT
DTSTART:20261025T010000
END:STANDARD
END:VTIMEZONE
BEGIN:VEVENT
DTSTART;TZID=Europe/London:20251024T190000
DTEND;TZID=Europe/London:20251024T223000
DTSTAMP:20260422T011620
CREATED:20250605T184303Z
LAST-MODIFIED:20250605T184303Z
UID:10002881-1761332400-1761345000@norfolkevents.uk
SUMMARY:Murder Mystery Dinner Halloween Special
DESCRIPTION:Join us for this highly popular Halloween Murder Mystery special. There will be entertainment from the Foul Players and a 3-course dinner. \nThe Ministry of Magic has a new Minister\, but he is unfortunately even more incompetent and corrupt than his predecessor and has employed ‘The Poisoner Of Azerbaijan’ to assist with the removal of his adversaries\, but who is the ‘Poisoner’ and who is  on the death list? \nJust £55.00 per person. \nTo book please call us on 01603 272008 or email us events@maidsheadhotel.co.uk
URL:https://norfolkevents.uk/event/murder-mystery-dinner-halloween-special/
LOCATION:Maids Head Hotel\, Maids Head Hotel\, Norwich\, NR3 1LB\, United Kingdom
CATEGORIES:Entertainment
ATTACH;FMTTYPE=image/jpeg:https://norfolkevents.uk/wp-content/uploads/2025/06/Maids-Head-with-blue-Bentley-credit-ETT-Photography-1.jpg
ORGANIZER;CN="Maids Head Hotel":MAILTO:events@maidsheadhotel.co.uk
END:VEVENT
END:VCALENDAR