BEGIN:VCALENDAR
VERSION:2.0
PRODID:-//Norfolk Events - ECPv6.15.20//NONSGML v1.0//EN
CALSCALE:GREGORIAN
METHOD:PUBLISH
X-ORIGINAL-URL:https://norfolkevents.uk
X-WR-CALDESC:Events for Norfolk Events
REFRESH-INTERVAL;VALUE=DURATION:PT1H
X-Robots-Tag:noindex
X-PUBLISHED-TTL:PT1H
BEGIN:VTIMEZONE
TZID:Europe/London
BEGIN:DAYLIGHT
TZOFFSETFROM:+0000
TZOFFSETTO:+0100
TZNAME:BST
DTSTART:20240331T010000
END:DAYLIGHT
BEGIN:STANDARD
TZOFFSETFROM:+0100
TZOFFSETTO:+0000
TZNAME:GMT
DTSTART:20241027T010000
END:STANDARD
BEGIN:DAYLIGHT
TZOFFSETFROM:+0000
TZOFFSETTO:+0100
TZNAME:BST
DTSTART:20250330T010000
END:DAYLIGHT
BEGIN:STANDARD
TZOFFSETFROM:+0100
TZOFFSETTO:+0000
TZNAME:GMT
DTSTART:20251026T010000
END:STANDARD
BEGIN:DAYLIGHT
TZOFFSETFROM:+0000
TZOFFSETTO:+0100
TZNAME:BST
DTSTART:20260329T010000
END:DAYLIGHT
BEGIN:STANDARD
TZOFFSETFROM:+0100
TZOFFSETTO:+0000
TZNAME:GMT
DTSTART:20261025T010000
END:STANDARD
END:VTIMEZONE
BEGIN:VEVENT
DTSTART;TZID=Europe/London:20251023T140000
DTEND;TZID=Europe/London:20251023T160000
DTSTAMP:20260422T062412
CREATED:20250903T182856Z
LAST-MODIFIED:20250903T182856Z
UID:10008666-1761228000-1761235200@norfolkevents.uk
SUMMARY:National Theatre Live: Mrs. Warren's Profession
DESCRIPTION:Five-time Olivier Award winner Imelda Staunton joins forces with her real-life daughter Bessie Carter for the very first time\, playing mother and daughter in Bernard Shaw’s incendiary moral classic. \nVivie Warren is a woman ahead of her time. Her mother\, however\, is a product of that old patriarchal order. Exploiting it has earned Mrs. Warren a fortune – but at what cost? \nFilmed live from the West End\, this new production reunites Staunton with director Dominic Cooke\, exploring the clash between morality and independence\, traditions and progress. \nCertificate: 12A\nRunning Time: 105 mins\nFind out more at www.ntlive.com\nThis event is suitable for anyone aged 50+ including those with long-term health conditions such as dementia\, carers and people looking to create new connections! \nWe use a ‘Pay What You Can’ pricing structure. If you can afford to pay a little more for your place\, this helps us keep lower priced tickets accessible for those who need it\, and means that we can continue to put on high-quality community events like this one. Lower cost ticket options will always be available to people experiencing financial hardship who might otherwise not be able to attend. \nFind out more about Creative Arts East’s Arts For Health Programme by visiting www.creativeartseast.co.uk
URL:https://norfolkevents.uk/event/national-theatre-live-mrs-warrens-profession/
LOCATION:Hunstanton Town Hall\, The Green\, Hunstanton\, PE36 6BQ\, United Kingdom
CATEGORIES:Community,Drama,Entertainment,Theatre
ATTACH;FMTTYPE=image/png:https://norfolkevents.uk/wp-content/uploads/2025/09/Eventotron-Website-Image-1080-x-608-px-18.png
END:VEVENT
END:VCALENDAR