BEGIN:VCALENDAR
VERSION:2.0
PRODID:-//Norfolk Events - ECPv6.15.20//NONSGML v1.0//EN
CALSCALE:GREGORIAN
METHOD:PUBLISH
X-WR-CALNAME:Norfolk Events
X-ORIGINAL-URL:https://norfolkevents.uk
X-WR-CALDESC:Events for Norfolk Events
REFRESH-INTERVAL;VALUE=DURATION:PT1H
X-Robots-Tag:noindex
X-PUBLISHED-TTL:PT1H
BEGIN:VTIMEZONE
TZID:Europe/London
BEGIN:DAYLIGHT
TZOFFSETFROM:+0000
TZOFFSETTO:+0100
TZNAME:BST
DTSTART:20240331T010000
END:DAYLIGHT
BEGIN:STANDARD
TZOFFSETFROM:+0100
TZOFFSETTO:+0000
TZNAME:GMT
DTSTART:20241027T010000
END:STANDARD
BEGIN:DAYLIGHT
TZOFFSETFROM:+0000
TZOFFSETTO:+0100
TZNAME:BST
DTSTART:20250330T010000
END:DAYLIGHT
BEGIN:STANDARD
TZOFFSETFROM:+0100
TZOFFSETTO:+0000
TZNAME:GMT
DTSTART:20251026T010000
END:STANDARD
BEGIN:DAYLIGHT
TZOFFSETFROM:+0000
TZOFFSETTO:+0100
TZNAME:BST
DTSTART:20260329T010000
END:DAYLIGHT
BEGIN:STANDARD
TZOFFSETFROM:+0100
TZOFFSETTO:+0000
TZNAME:GMT
DTSTART:20261025T010000
END:STANDARD
END:VTIMEZONE
BEGIN:VEVENT
DTSTART;TZID=Europe/London:20251017T181500
DTEND;TZID=Europe/London:20251017T210000
DTSTAMP:20260422T140800
CREATED:20250924T181635Z
LAST-MODIFIED:20250924T181635Z
UID:10009399-1760724900-1760734800@norfolkevents.uk
SUMMARY:Norwich Halloween J-pop Concert
DESCRIPTION:Come to the first Halloween J-pop concert night in Norwich! Featuring a lineup of kaigai idols – idols outside of Japan – including Peiji\, Cassidy\, and Sora\, you can see your favourite idol Halloween songs performed live! There will be singing and dancing to J-pop idol\, vocaloid and anime songs to get you into the spooky season! \nGrab your penlight and enjoy! A limited amount of penlights will be available to purchase before the event starts for the full J-pop concert experience! Follow @peijiangel on instagram or TikTok for further announcements on performers.
URL:https://norfolkevents.uk/event/norwich-halloween-j-pop-concert/
LOCATION:The Garage\, 14 Chapel Fld N\, Norwich\, NR2 1NY
CATEGORIES:Dance,Entertainment,Family,Halloween,Music
ATTACH;FMTTYPE=image/jpeg:https://norfolkevents.uk/wp-content/uploads/2025/09/Halloween-event-image.jpg
END:VEVENT
END:VCALENDAR