BEGIN:VCALENDAR
VERSION:2.0
PRODID:-//Norfolk Events - ECPv6.15.20//NONSGML v1.0//EN
CALSCALE:GREGORIAN
METHOD:PUBLISH
X-WR-CALNAME:Norfolk Events
X-ORIGINAL-URL:https://norfolkevents.uk
X-WR-CALDESC:Events for Norfolk Events
REFRESH-INTERVAL;VALUE=DURATION:PT1H
X-Robots-Tag:noindex
X-PUBLISHED-TTL:PT1H
BEGIN:VTIMEZONE
TZID:Europe/London
BEGIN:DAYLIGHT
TZOFFSETFROM:+0000
TZOFFSETTO:+0100
TZNAME:BST
DTSTART:20250330T010000
END:DAYLIGHT
BEGIN:STANDARD
TZOFFSETFROM:+0100
TZOFFSETTO:+0000
TZNAME:GMT
DTSTART:20251026T010000
END:STANDARD
BEGIN:DAYLIGHT
TZOFFSETFROM:+0000
TZOFFSETTO:+0100
TZNAME:BST
DTSTART:20260329T010000
END:DAYLIGHT
BEGIN:STANDARD
TZOFFSETFROM:+0100
TZOFFSETTO:+0000
TZNAME:GMT
DTSTART:20261025T010000
END:STANDARD
BEGIN:DAYLIGHT
TZOFFSETFROM:+0000
TZOFFSETTO:+0100
TZNAME:BST
DTSTART:20270328T010000
END:DAYLIGHT
BEGIN:STANDARD
TZOFFSETFROM:+0100
TZOFFSETTO:+0000
TZNAME:GMT
DTSTART:20271031T010000
END:STANDARD
END:VTIMEZONE
BEGIN:VEVENT
DTSTART;TZID=Europe/London:20260211T080000
DTEND;TZID=Europe/London:20261101T170000
DTSTAMP:20260423T104336
CREATED:20260213T191644Z
LAST-MODIFIED:20260213T191644Z
UID:10013609-1770796800-1793552400@norfolkevents.uk
SUMMARY:Swaffham Market Town Trail
DESCRIPTION:Explore Swaffham with the Market Town Trail \nDiscover the history\, stories\, and hidden gems of Swaffham with our self-guided Market Town Trail. Pick up your free guide at the Museum of Swaffham\, follow the trail through the town\, and learn more about its unique heritage. Complete the walk and receive a free tote bag as a special reward! \nThis project has been made possible thanks to Love Your Market Funding\, supporting local initiatives that celebrate and promote our town. Start your adventure today and see Swaffham in a whole new light!
URL:https://norfolkevents.uk/event/swaffham-market-town-trail/
LOCATION:Market Place Swaffham\, Market Place\, Swaffham\, PE37 7AB
CATEGORIES:Heritage
ATTACH;FMTTYPE=image/jpeg:https://norfolkevents.uk/wp-content/uploads/2026/02/Heritage-Walk.jpg
ORGANIZER;CN="Swaffham Town Council":MAILTO:reception@swaffhamtowncouncil.gov.uk
END:VEVENT
BEGIN:VEVENT
DTSTART;VALUE=DATE:20260423
DTEND;VALUE=DATE:20260425
DTSTAMP:20260423T104336
CREATED:20250729T172342Z
LAST-MODIFIED:20250729T185945Z
UID:10005426-1776916800-1777003199@norfolkevents.uk
SUMMARY:Glow Run Club
DESCRIPTION:Our inclusive run club in Wymondham\nBeginner friendly to the avid runners.\nGood energy and glowy souls!
URL:https://norfolkevents.uk/event/glow-run-club/2026-04-23/
LOCATION:wymondham
CATEGORIES:Sports
ATTACH;FMTTYPE=image/jpeg:https://norfolkevents.uk/wp-content/uploads/2025/07/d728bc1d-8a50-4063-acbc-c43d254cc80c.jpeg
END:VEVENT
BEGIN:VEVENT
DTSTART;TZID=Europe/London:20260423T100000
DTEND;TZID=Europe/London:20260423T113000
DTSTAMP:20260423T104336
CREATED:20260408T194921Z
LAST-MODIFIED:20260408T194921Z
UID:10016922-1776938400-1776943800@norfolkevents.uk
SUMMARY:Paw Patrol Play Special!
DESCRIPTION:Join us at our playspace in Thorpe (NR7 0QW)\, ideal for babies\, toddlers and pre-schoolers💛 \n✨ For all little Paw Patrol fans! Themed play & activities (inside AND out!)\n🍞 Toast snack included for children\n☕ Complimentary cuppa for grown-ups\n🚗 Free & easy parking at the playground\n🚌 Bus stop just a 4-minute walk away\n🎶 Finishing with bubbles & music fun!
URL:https://norfolkevents.uk/event/paw-patrol-play-special/2026-04-23/
LOCATION:Hillside Avenue Primary & Nursery School\, Hillside Avenue\, Norwich\,\, NR7 0QW\, United Kingdom
CATEGORIES:Children,Community,Family
ATTACH;FMTTYPE=image/jpeg:https://norfolkevents.uk/wp-content/uploads/2026/04/78E3C002-AF2C-4039-BC12-6ABA15A3830F.jpeg
ORGANIZER;CN="Inspiring Imaginations":MAILTO:inspiringimaginations@outlook.com
END:VEVENT
BEGIN:VEVENT
DTSTART;TZID=Europe/London:20260423T100000
DTEND;TZID=Europe/London:20260423T160000
DTSTAMP:20260423T104336
CREATED:20260401T203123Z
LAST-MODIFIED:20260401T203123Z
UID:10016863-1776938400-1776960000@norfolkevents.uk
SUMMARY:Spring Trail - Secret Signals!
DESCRIPTION:Spring Trail – Secret Signals! at the Museum of the Broads \nIn this family-friendly trail\, explore the museum to discover 12 hidden messages. Have a go at mirror writing and morse code and discover how the birds\, the trees and the bees talk to each other. Find the pink sound Pod\, discover the Prize Password and claim your prize. \nFree with the museum admission.
URL:https://norfolkevents.uk/event/spring-trail-secret-signals/2026-04-23/
LOCATION:Museum of the Broads\, The Poor’s Staithe\,\, Stalham\,\, Norfolk.\, NR12 9DA.
CATEGORIES:Family
ATTACH;FMTTYPE=image/png:https://norfolkevents.uk/wp-content/uploads/2026/03/Screenshot-2026-03-31-162516.png
END:VEVENT
BEGIN:VEVENT
DTSTART;TZID=Europe/London:20260423T100000
DTEND;TZID=Europe/London:20260426T160000
DTSTAMP:20260423T104336
CREATED:20260110T084207Z
LAST-MODIFIED:20260110T084341Z
UID:10011709-1776938400-1777219200@norfolkevents.uk
SUMMARY:Pop Up Shops
DESCRIPTION:North Norfolk Coast shopping that’s not on the high street from local producers & artisans. Dalegate Market will host four artisans & producers in the beach huts each week.
URL:https://norfolkevents.uk/event/pop-up-shops-2/2026-04-23/
LOCATION:Dalegate Market\, Main Road\, Burnham Deepdale\, PE31 8FB
CATEGORIES:Craft Fairs,Shopping
ATTACH;FMTTYPE=image/jpeg:https://norfolkevents.uk/wp-content/uploads/2025/08/pop-up-shops-header1.jpg
ORGANIZER;CN="Dalegate Market":MAILTO:enquiries@dalegatemarket.co.uk
END:VEVENT
BEGIN:VEVENT
DTSTART;TZID=Europe/London:20260423T100000
DTEND;TZID=Europe/London:20260426T180000
DTSTAMP:20260423T104336
CREATED:20260329T205645Z
LAST-MODIFIED:20260416T202453Z
UID:10016406-1776938400-1777226400@norfolkevents.uk
SUMMARY:Under The Stalls Art Fair
DESCRIPTION:“FOLLOWING THE INCREDIBLE RESPONSE TO OUR BANKSY SHOW IN 2025\, WE ARE THRILLED TO RETURN TO THE UNDERCROFT GALLERY. THE MARKET AREA IS A THRIVING HUB OF CREATIVITY AND DISCOVERY\, THE PERFECT PLACE TO LAUNCH AN ART FAIR THAT REFLECTS NORWICH’S ARTISTIC SPIRIT.” \nAN EXCITING NEW ART FAIR CELEBRATING CREATIVE TALENT FROM ACROSS NORFOLK AND THE WIDER REGION \nUnder The Stalls Art Fair is an exciting new event dedicated to celebrating creative talent from across Norfolk and beyond. Making its debut at the Undercroft Gallery from 23–26 April 2026\, the fair will bring together emerging and established artists in one of Norwich’s most distinctive exhibition spaces.\nCreated and organised by Urban Art Store\, the team behind the hugely successful Banksy to Bitcoin exhibition that drew thousands of visitors in August 2025\, the fair aims to give artists at every stage of their journey the opportunity to showcase and sell their work in a vibrant\, high-footfall venue. \nPARTNERSHIP WITH EDP & NUA \nIn the run-up to the fair\, Urban Art Store is partnering with the Eastern Daily Press (EDP) to launch a talent-spotting competition for students at Norwich University of the Arts (NUA).\nSelected artists will be featured in dedicated EDP coverage\, gaining valuable early-career exposure.\nOne standout student will receive: \n• A free exhibition stand at the fair\n• The opportunity to keep 100% of profits from artwork sold\n• Support and guidance from NUA academics and fellow exhibitors
URL:https://norfolkevents.uk/event/under-the-stalls-art-fair/
LOCATION:The Undercroft Gallery\, Market Square\, Norwich\, NR2 1ND
CATEGORIES:Art and exhibitions,Exhibitions
ATTACH;FMTTYPE=image/jpeg:https://norfolkevents.uk/wp-content/uploads/2026/03/IMG_2698.jpeg
END:VEVENT
BEGIN:VEVENT
DTSTART;TZID=Europe/London:20260423T110000
DTEND;TZID=Europe/London:20260423T150000
DTSTAMP:20260423T104336
CREATED:20251229T160023Z
LAST-MODIFIED:20260116T225018Z
UID:10013007-1776942000-1776956400@norfolkevents.uk
SUMMARY:Toddler Thursdays at ROARR!
DESCRIPTION:Toddler Thursdays are a NEW midweek experience at ROARR! designed especially for pre-school children. Taking place every Thursday during term time from January to April\, these sessions offer age-appropriate play and relaxed family fun. \nWhat’s included:\n– Dinomite Indoor Soft Play\n– DippyVille toddler play area\n– Outdoor play in Dippy’s Land\n– A special Toddler Thursday menu in the Dinomite Café \nWhen:\nEvery Thursday (term time\, Jan–April)\n11:00 am – 3:00 pm \nPricing:\nFrom £10 for one adult and one pre-school child\nFree entry for Annual Pass holders \nToddler Thursdays provide a calm\, engaging environment ideal for younger children to explore\, play and enjoy their first adventures at ROARR!
URL:https://norfolkevents.uk/event/toddler-thursdays-at-roarr/2026-04-23/
LOCATION:ROARR!\, Lenwade\, Norwich\, NR9 5JE
CATEGORIES:Children,Entertainment,Family
ATTACH;FMTTYPE=image/png:https://norfolkevents.uk/wp-content/uploads/2025/12/Untitled-design-12.png
ORGANIZER;CN="ROARR!":MAILTO:marketing@roarr.co.uk
END:VEVENT
BEGIN:VEVENT
DTSTART;TZID=Europe/London:20260423T180000
DTEND;TZID=Europe/London:20260423T190000
DTSTAMP:20260423T104336
CREATED:20260318T224917Z
LAST-MODIFIED:20260318T224917Z
UID:10016397-1776967200-1776970800@norfolkevents.uk
SUMMARY:Wilder Communities - Making room for swifts
DESCRIPTION:Would summer be the same without swift ‘screaming parties’ as they fly overhead? Surely this is something that would be truly missed if we lost these amazing birds that are now listed as a red data book species. \nThrough this online presentation\, Caroline Spinks\, Norwich Swift Network\, will give us an insight into these birds and talk about how we can help to look after swifts in Norfolk. \nThis is an Online event – an invitation will be sent 1 week before. \nPlease join us at 6pm – talk starts at 6.05pm. \nWilder Communities workshops are designed to support individuals\, communities and groups acting for nature in their local area. Subsidised by donations generously made to Norfolk Wildlife Trust\, there is something for everyone to learn and enjoy. All workshops can be booked via our website (a booking fee may apply).
URL:https://norfolkevents.uk/event/wilder-communities-making-room-for-swifts/
LOCATION:online
CATEGORIES:Charity/Fundraising,Community,Heritage
ATTACH;FMTTYPE=image/jpeg:https://norfolkevents.uk/wp-content/uploads/2026/03/swifts.jpg
ORGANIZER;CN="Norfolk Wildlife Trust":MAILTO:info@norfolkwildlifetrust.org.uk
END:VEVENT
BEGIN:VEVENT
DTSTART;TZID=Europe/London:20260423T193000
DTEND;TZID=Europe/London:20260423T220000
DTSTAMP:20260423T104336
CREATED:20250609T184304Z
LAST-MODIFIED:20250609T184304Z
UID:10004035-1776972600-1776981600@norfolkevents.uk
SUMMARY:Tom Rosenthal: Whatever People Say I Am\, That's What I Am
DESCRIPTION:Arctic Monkeys’ album\, Whatever People Say I Am\, That’s What I’m Not\, hit the shelves in January 2006. Tracks like ‘I Bet You Look Good on the Dancefloor’ and ‘When the Sun Goes Down’ became anthems\, showcasing Alex Turner’s sharp lyrics and observational storytelling. \nTom Rosenthal‘s show\, Whatever People Say I Am\, That’s What I Am\, tours the UK and Ireland in 2026. Jokes like ‘Wimbledon’\, ‘Daniel Radcliffe’ and ‘Some Weather We’re Having’ have the potential to become classics\, showcasing Rosenthal’s sharp nose and observational squawking. \nStar of Friday Night Dinner (C4) and Plebs (ITV)\, this is Tom’s much-awaited return to stand-up following his critically acclaimed 2019 show\, Manhood.
URL:https://norfolkevents.uk/event/tom-rosenthal-whatever-people-say-i-am-thats-what-i-am/
LOCATION:Norwich Theatre Playhouse\, 42-58 St Georges Street\, Norwich\, Norfolk\, NR3 1AB\, United Kingdom
CATEGORIES:Comedy
ATTACH;FMTTYPE=image/png:https://norfolkevents.uk/wp-content/uploads/2025/06/TR-NE.png
END:VEVENT
END:VCALENDAR