BEGIN:VCALENDAR
VERSION:2.0
PRODID:-//Norfolk Events - ECPv6.15.20//NONSGML v1.0//EN
CALSCALE:GREGORIAN
METHOD:PUBLISH
X-WR-CALNAME:Norfolk Events
X-ORIGINAL-URL:https://norfolkevents.uk
X-WR-CALDESC:Events for Norfolk Events
REFRESH-INTERVAL;VALUE=DURATION:PT1H
X-Robots-Tag:noindex
X-PUBLISHED-TTL:PT1H
BEGIN:VTIMEZONE
TZID:Europe/London
BEGIN:DAYLIGHT
TZOFFSETFROM:+0000
TZOFFSETTO:+0100
TZNAME:BST
DTSTART:20250330T010000
END:DAYLIGHT
BEGIN:STANDARD
TZOFFSETFROM:+0100
TZOFFSETTO:+0000
TZNAME:GMT
DTSTART:20251026T010000
END:STANDARD
BEGIN:DAYLIGHT
TZOFFSETFROM:+0000
TZOFFSETTO:+0100
TZNAME:BST
DTSTART:20260329T010000
END:DAYLIGHT
BEGIN:STANDARD
TZOFFSETFROM:+0100
TZOFFSETTO:+0000
TZNAME:GMT
DTSTART:20261025T010000
END:STANDARD
BEGIN:DAYLIGHT
TZOFFSETFROM:+0000
TZOFFSETTO:+0100
TZNAME:BST
DTSTART:20270328T010000
END:DAYLIGHT
BEGIN:STANDARD
TZOFFSETFROM:+0100
TZOFFSETTO:+0000
TZNAME:GMT
DTSTART:20271031T010000
END:STANDARD
END:VTIMEZONE
BEGIN:VEVENT
DTSTART;TZID=Europe/London:20260211T080000
DTEND;TZID=Europe/London:20261101T170000
DTSTAMP:20260422T092509
CREATED:20260213T191644Z
LAST-MODIFIED:20260213T191644Z
UID:10013609-1770796800-1793552400@norfolkevents.uk
SUMMARY:Swaffham Market Town Trail
DESCRIPTION:Explore Swaffham with the Market Town Trail \nDiscover the history\, stories\, and hidden gems of Swaffham with our self-guided Market Town Trail. Pick up your free guide at the Museum of Swaffham\, follow the trail through the town\, and learn more about its unique heritage. Complete the walk and receive a free tote bag as a special reward! \nThis project has been made possible thanks to Love Your Market Funding\, supporting local initiatives that celebrate and promote our town. Start your adventure today and see Swaffham in a whole new light!
URL:https://norfolkevents.uk/event/swaffham-market-town-trail/
LOCATION:Market Place Swaffham\, Market Place\, Swaffham\, PE37 7AB
CATEGORIES:Heritage
ATTACH;FMTTYPE=image/jpeg:https://norfolkevents.uk/wp-content/uploads/2026/02/Heritage-Walk.jpg
ORGANIZER;CN="Swaffham Town Council":MAILTO:reception@swaffhamtowncouncil.gov.uk
END:VEVENT
BEGIN:VEVENT
DTSTART;TZID=Europe/London:20260328T100000
DTEND;TZID=Europe/London:20260419T170000
DTSTAMP:20260422T092509
CREATED:20260305T200433Z
LAST-MODIFIED:20260305T200433Z
UID:10016348-1774692000-1776618000@norfolkevents.uk
SUMMARY:BeWILDerwood Presents: The Easter Bunny Adventure
DESCRIPTION:Be part of a brand-new Easter adventure at BeWILDerwood! Cedric the Easter Bunny is trying to run the greatest Easter celebration ever\, but the Pesky Bunnies keep causing mayhem and BeWILDerwood need YOUR help! Choose your team\, join the story\, and help decide how Easter unfolds in the woods… \nActivities:\n🥚 The Great Egg Hunt\n🐰 Meet Cedric the Easter Bunny\n🎨 Easter crafts and games\n🐇 Interactive stage show\n🕺 A mini disco\n🌸 A full day of magical outdoor play\nAnd lots\, lots more! \nAll included in your ticket!
URL:https://norfolkevents.uk/event/bewilderwood-presents-the-easter-bunny-adventure/
LOCATION:BeWILDerwood Norfolk\, BeWILDerwood Norfolk\, Horning Road\, Hoveton\, NR12 8JW\, Hoveton\, NR128JW
CATEGORIES:Easter,Family
ATTACH;FMTTYPE=image/jpeg:https://norfolkevents.uk/wp-content/uploads/2026/03/0X1A0269-HIGH-RES-copy-colour-edited-1-scaled.jpg
END:VEVENT
BEGIN:VEVENT
DTSTART;VALUE=DATE:20260416
DTEND;VALUE=DATE:20260418
DTSTAMP:20260422T092509
CREATED:20250729T172342Z
LAST-MODIFIED:20250729T185945Z
UID:10005424-1776312000-1776398399@norfolkevents.uk
SUMMARY:Glow Run Club
DESCRIPTION:Our inclusive run club in Wymondham\nBeginner friendly to the avid runners.\nGood energy and glowy souls!
URL:https://norfolkevents.uk/event/glow-run-club/2026-04-16/
LOCATION:wymondham
CATEGORIES:Sports
ATTACH;FMTTYPE=image/jpeg:https://norfolkevents.uk/wp-content/uploads/2025/07/d728bc1d-8a50-4063-acbc-c43d254cc80c.jpeg
END:VEVENT
BEGIN:VEVENT
DTSTART;TZID=Europe/London:20260416T100000
DTEND;TZID=Europe/London:20260416T160000
DTSTAMP:20260422T092509
CREATED:20260401T203123Z
LAST-MODIFIED:20260401T203123Z
UID:10016856-1776333600-1776355200@norfolkevents.uk
SUMMARY:Spring Trail - Secret Signals!
DESCRIPTION:Spring Trail – Secret Signals! at the Museum of the Broads \nIn this family-friendly trail\, explore the museum to discover 12 hidden messages. Have a go at mirror writing and morse code and discover how the birds\, the trees and the bees talk to each other. Find the pink sound Pod\, discover the Prize Password and claim your prize. \nFree with the museum admission.
URL:https://norfolkevents.uk/event/spring-trail-secret-signals/2026-04-16/
LOCATION:Museum of the Broads\, The Poor’s Staithe\,\, Stalham\,\, Norfolk.\, NR12 9DA.
CATEGORIES:Family
ATTACH;FMTTYPE=image/png:https://norfolkevents.uk/wp-content/uploads/2026/03/Screenshot-2026-03-31-162516.png
END:VEVENT
BEGIN:VEVENT
DTSTART;TZID=Europe/London:20260416T100000
DTEND;TZID=Europe/London:20260419T160000
DTSTAMP:20260422T092509
CREATED:20260110T084207Z
LAST-MODIFIED:20260110T084341Z
UID:10011705-1776333600-1776614400@norfolkevents.uk
SUMMARY:Pop Up Shops
DESCRIPTION:North Norfolk Coast shopping that’s not on the high street from local producers & artisans. Dalegate Market will host four artisans & producers in the beach huts each week.
URL:https://norfolkevents.uk/event/pop-up-shops-2/2026-04-16/
LOCATION:Dalegate Market\, Main Road\, Burnham Deepdale\, PE31 8FB
CATEGORIES:Craft Fairs,Shopping
ATTACH;FMTTYPE=image/jpeg:https://norfolkevents.uk/wp-content/uploads/2025/08/pop-up-shops-header1.jpg
ORGANIZER;CN="Dalegate Market":MAILTO:enquiries@dalegatemarket.co.uk
END:VEVENT
BEGIN:VEVENT
DTSTART;TZID=Europe/London:20260416T103000
DTEND;TZID=Europe/London:20260416T113000
DTSTAMP:20260422T092509
CREATED:20251113T193323Z
LAST-MODIFIED:20251113T193323Z
UID:10011092-1776335400-1776339000@norfolkevents.uk
SUMMARY:Mini Museum Club: Shops
DESCRIPTION:Once a month\, under 5s and their families are invited to explore Lynn Museum with a variety of activities\, trails\, songs\, games and stories. These sessions have a different theme each month\, and are specially designed for early years learning\, allowing young children the chance to explore the museum in their own way. \nIn April families can explore the world of shopping\, including a visit to our very own recreation of Taylor’s Seed Shop. \n50p per child\, accompanying adults free. Booking is recommended.
URL:https://norfolkevents.uk/event/mini-museum-club-shops/
LOCATION:Lynn Museum\, Market Street\, King's Lynn\, PE30 1NL
CATEGORIES:Budget friendly,Children,Family,Heritage
ATTACH;FMTTYPE=image/jpeg:https://norfolkevents.uk/wp-content/uploads/2025/11/AutumnWinter-Promo-Small-3.jpg
ORGANIZER;CN="Lynn Museum":MAILTO:lynn.museum@norfolk.gov.uk
END:VEVENT
BEGIN:VEVENT
DTSTART;TZID=Europe/London:20260416T110000
DTEND;TZID=Europe/London:20260416T150000
DTSTAMP:20260422T092509
CREATED:20251229T160023Z
LAST-MODIFIED:20260116T225018Z
UID:10013006-1776337200-1776351600@norfolkevents.uk
SUMMARY:Toddler Thursdays at ROARR!
DESCRIPTION:Toddler Thursdays are a NEW midweek experience at ROARR! designed especially for pre-school children. Taking place every Thursday during term time from January to April\, these sessions offer age-appropriate play and relaxed family fun. \nWhat’s included:\n– Dinomite Indoor Soft Play\n– DippyVille toddler play area\n– Outdoor play in Dippy’s Land\n– A special Toddler Thursday menu in the Dinomite Café \nWhen:\nEvery Thursday (term time\, Jan–April)\n11:00 am – 3:00 pm \nPricing:\nFrom £10 for one adult and one pre-school child\nFree entry for Annual Pass holders \nToddler Thursdays provide a calm\, engaging environment ideal for younger children to explore\, play and enjoy their first adventures at ROARR!
URL:https://norfolkevents.uk/event/toddler-thursdays-at-roarr/2026-04-16/
LOCATION:ROARR!\, Lenwade\, Norwich\, NR9 5JE
CATEGORIES:Children,Entertainment,Family
ATTACH;FMTTYPE=image/png:https://norfolkevents.uk/wp-content/uploads/2025/12/Untitled-design-12.png
ORGANIZER;CN="ROARR!":MAILTO:marketing@roarr.co.uk
END:VEVENT
BEGIN:VEVENT
DTSTART;TZID=Europe/London:20260416T153000
DTEND;TZID=Europe/London:20260416T190000
DTSTAMP:20260422T092509
CREATED:20260213T225953Z
LAST-MODIFIED:20260213T225953Z
UID:10016194-1776353400-1776366000@norfolkevents.uk
SUMMARY:Senses of Unity
DESCRIPTION:Join Us for Senses of Unity \n\nFor one afternoon only\, Carrow House will open its doors to reveal what happens when people\, place\, and purpose come together. \nSenses of Unity is a showcase event and an invitation to experience the impact of Norwich Unity Hub through sight\, sound\, touch\, taste\, smell\, and spatial awareness (proprioception!) \nSince moving into Carrow House in October 2024\, Norwich Unity Hub has transformed an under-used building into a thriving home for charities\, social enterprises\, and artists. This event centres on connection between people\, ideas\, and the shared spaces of Carrow House. It’s a moment to pause\, gather\, and experience the community that’s been built here together. \nThis is a ticketed event. Entry is free with the option to make a donation\, covering costs and supporting our work. \nWe look forward to welcoming you to Carrow House.
URL:https://norfolkevents.uk/event/senses-of-unity/
LOCATION:Carrow House\, 301 King St\, Norwich\, NR1 2TG
CATEGORIES:Community,Open Days
ATTACH;FMTTYPE=image/jpeg:https://norfolkevents.uk/wp-content/uploads/2026/02/Screenshot-2026-02-13-225147.jpg
ORGANIZER;CN="Norwich Unity Hub":MAILTO:hello@norwichunityhub.co.uk
END:VEVENT
BEGIN:VEVENT
DTSTART;TZID=Europe/London:20260416T193000
DTEND;TZID=Europe/London:20260416T203000
DTSTAMP:20260422T092509
CREATED:20250609T184338Z
LAST-MODIFIED:20250614T212705Z
UID:10004036-1776367800-1776371400@norfolkevents.uk
SUMMARY:Out of the Box
DESCRIPTION:OUT OF THE BOX is a family-friendly circus comedy show\, which sees an unlikely character and his box bring audiences together through joyful awe\, never knowing what to expect next. \nWith every opening of the box comes new trick shots\, mini acts\, and hilarious opportunities for participation – but don’t worry – Darryl only ever wants you to leave the stage feeling like the star of the show (there’s no ridicule here!). \nDelivered through non-verbal clowning\, ordinary objects become extraordinary in the hands of Darryl – and you won’t believe the reaction he gets from a toothbrush in the finale! \nThe show is a joyous celebration of PLAY throughout your life\, whatever your age\, bringing generations together through seriously skilful silliness.
URL:https://norfolkevents.uk/event/out-of-the-box/
LOCATION:Norwich Theatre Playhouse\, 42-58 St Georges Street\, Norwich\, Norfolk\, NR3 1AB\, United Kingdom
CATEGORIES:Family
ATTACH;FMTTYPE=image/png:https://norfolkevents.uk/wp-content/uploads/2025/06/OTB-NE.png
END:VEVENT
BEGIN:VEVENT
DTSTART;TZID=Europe/London:20260416T193000
DTEND;TZID=Europe/London:20260416T220000
DTSTAMP:20260422T092509
CREATED:20250602T184313Z
LAST-MODIFIED:20250605T200622Z
UID:10003807-1776367800-1776376800@norfolkevents.uk
SUMMARY:Here & Now
DESCRIPTION:Happiness is only a heartbeat away with HERE & NOW\, the hilarious and heart-warming new musical based on the songs of the multi-million-selling pop phenomenon\, Steps. Don’t miss this sparkling celebration of love and friendship when it comes to Norwich Theatre Royal after its record-breaking world premiere this year! \nWelcome to seaside superstore Better Best Bargains\, where it’s Friday night\, the vibe is right\, and everyone’s dancing in the aisles. But when Caz discovers the shelves are stocked with lies and betrayal\, the summer of love she and her friends dreamed of suddenly feels like a tragedy. Have they all lost their chance of a ‘happy ever after’? Or does love have other plans in store…? \nDirected by the award-winning Rachel Kavanaugh (Half a Sixpence\, The Great British Bake Off Musical) and written by Shaun Kitchener (Hollyoaks)\, HERE & NOW features many of Steps’ iconic hits\, including 5\, 6\, 7\, 8\, Stomp\, Better Best Forgotten\, and Last Thing On My Mind. \nThis brand new musical is produced by Steps themselves\, ROYO and pop legend Pete Waterman.
URL:https://norfolkevents.uk/event/here-now/2026-04-16/
LOCATION:Norwich Theatre Royal\, Theatre Street\, Norwich\, Norfolk\, NR2 1RL\, United Kingdom
ATTACH;FMTTYPE=image/png:https://norfolkevents.uk/wp-content/uploads/2025/06/Here-and-Now-Norfolk-Events.png
END:VEVENT
END:VCALENDAR